BEGIN:VCALENDAR
VERSION:2.0
PRODID:-//wp-events-plugin.com//7.2.3.1//EN
TZID:America/New_York
X-WR-TIMEZONE:America/New_York
BEGIN:VEVENT
UID:430@breadforthecity.org
DTSTART;TZID=America/New_York:20240620T101500
DTEND;TZID=America/New_York:20240620T123000
DTSTAMP:20240822T151611Z
URL:https://breadforthecity.org/events/adinkra-symbol-block-printing-on-to
 te-bags-registration-required/
SUMMARY:Adinkra Symbol Block Printing on Tote Bags [REGISTRATION REQUIRED]
DESCRIPTION:Experience an art workshop with Crystal Frost that highlights t
 he rich history of the African Diaspora. Must attend 2 workshops before th
 e class and RSVP to Neka (202)951-1488.
ATTACH;FMTTYPE=image/jpeg:https://breadforthecity.org/wp-content/uploads/2
 024/08/bfc-community-empowered-featured-images-500x281-3.png
CATEGORIES:Community Empowered Workshops
LOCATION:Michelle Obama Southeast Center of Bread for the City\, 1700 Mario
 n Barry Ave SE\, Washington\, DC\, 20020\, United States
GEO:38.866209;-76.980521
X-APPLE-STRUCTURED-LOCATION;VALUE=URI;X-ADDRESS=1700 Marion Barry Ave SE\, 
 Washington\, DC\, 20020\, United States;X-APPLE-RADIUS=100;X-TITLE=Michell
 e Obama Southeast Center of Bread for the City:geo:38.866209,-76.980521
END:VEVENT
BEGIN:VTIMEZONE
TZID:America/New_York
X-LIC-LOCATION:America/New_York
BEGIN:DAYLIGHT
DTSTART:20240310T030000
TZOFFSETFROM:-0500
TZOFFSETTO:-0400
TZNAME:EDT
END:DAYLIGHT
END:VTIMEZONE
END:VCALENDAR