BEGIN:VCALENDAR
VERSION:2.0
PRODID:-//wp-events-plugin.com//7.2.3.1//EN
TZID:America/New_York
X-WR-TIMEZONE:America/New_York
BEGIN:VEVENT
UID:384@breadforthecity.org
DTSTART;TZID=America/New_York:20231121T100000
DTEND;TZID=America/New_York:20231121T110000
DTSTAMP:20240821T183357Z
URL:https://breadforthecity.org/events/fall-paint-and-sip-with-april/
SUMMARY:Fall Paint and Sip with April
DESCRIPTION:Only ten slots are available\, must register with Neka Hicks at
  (202) 951-1488 and have attended three workshops in November prior to the
  event. The event includes a light lunch.
ATTACH;FMTTYPE=image/jpeg:https://breadforthecity.org/wp-content/uploads/2
 024/08/bfc-community-empowered-featured-images-500x281-1-1.png
CATEGORIES:Community Empowered Workshops
LOCATION:Michelle Obama Southeast Center of Bread for the City\, 1700 Mario
 n Barry Ave SE\, Washington\, DC\, 20020\, United States
GEO:38.866209;-76.980521
X-APPLE-STRUCTURED-LOCATION;VALUE=URI;X-ADDRESS=1700 Marion Barry Ave SE\, 
 Washington\, DC\, 20020\, United States;X-APPLE-RADIUS=100;X-TITLE=Michell
 e Obama Southeast Center of Bread for the City:geo:38.866209,-76.980521
END:VEVENT
BEGIN:VTIMEZONE
TZID:America/New_York
X-LIC-LOCATION:America/New_York
BEGIN:STANDARD
DTSTART:20231105T010000
TZOFFSETFROM:-0400
TZOFFSETTO:-0500
TZNAME:EST
END:STANDARD
END:VTIMEZONE
END:VCALENDAR