BEGIN:VCALENDAR
VERSION:2.0
PRODID:-//wp-events-plugin.com//7.2.3.1//EN
TZID:America/New_York
X-WR-TIMEZONE:America/New_York
BEGIN:VEVENT
UID:401@breadforthecity.org
DTSTART;TZID=America/New_York:20240201T111500
DTEND;TZID=America/New_York:20240201T121500
DTSTAMP:20240822T135622Z
URL:https://breadforthecity.org/events/food-culture-and-black-history-disc
 ussion/
SUMMARY:Food\, Culture and Black History Discussion
DESCRIPTION:View a brief video and have a discussion on the importance of c
 ertain foods in the Black community.
ATTACH;FMTTYPE=image/jpeg:https://breadforthecity.org/wp-content/uploads/2
 024/08/BFC-Black-History-Month-Email-Header-500x167-1.png
CATEGORIES:Community Empowered Workshops
LOCATION:Michelle Obama Southeast Center of Bread for the City\, 1700 Mario
 n Barry Ave SE\, Washington\, DC\, 20020\, United States
GEO:38.866209;-76.980521
X-APPLE-STRUCTURED-LOCATION;VALUE=URI;X-ADDRESS=1700 Marion Barry Ave SE\, 
 Washington\, DC\, 20020\, United States;X-APPLE-RADIUS=100;X-TITLE=Michell
 e Obama Southeast Center of Bread for the City:geo:38.866209,-76.980521
END:VEVENT
BEGIN:VTIMEZONE
TZID:America/New_York
X-LIC-LOCATION:America/New_York
BEGIN:STANDARD
DTSTART:20231105T010000
TZOFFSETFROM:-0400
TZOFFSETTO:-0500
TZNAME:EST
END:STANDARD
END:VTIMEZONE
END:VCALENDAR