BEGIN:VCALENDAR
VERSION:2.0
PRODID:-//wp-events-plugin.com//7.2.3.1//EN
TZID:America/New_York
X-WR-TIMEZONE:America/New_York
BEGIN:VEVENT
UID:1021@breadforthecity.org
DTSTART;TZID=America/New_York:20260429T110000
DTEND;TZID=America/New_York:20260429T120000
DTSTAMP:20260325T193844Z
URL:https://breadforthecity.org/events/se-garden-club-2026-04-29/
SUMMARY:SE Rooftop Garden Club
DESCRIPTION:Do you love to garden? Want to learn more about it? Join our Ga
 rden Club on the roof!
ATTACH;FMTTYPE=image/jpeg:https://breadforthecity.org/wp-content/uploads/2
 026/03/Screenshot-2026-03-25-153440.png
CATEGORIES:FREE Community Workshops
LOCATION:Michelle Obama Southeast Center of Bread for the City\, 1700 Mario
 n Barry Ave SE\, Washington\, DC\, 20020\, United States
GEO:38.866209;-76.980521
X-APPLE-STRUCTURED-LOCATION;VALUE=URI;X-ADDRESS=1700 Marion Barry Ave SE\, 
 Washington\, DC\, 20020\, United States;X-APPLE-RADIUS=100;X-TITLE=Michell
 e Obama Southeast Center of Bread for the City:geo:38.866209,-76.980521
END:VEVENT
BEGIN:VTIMEZONE
TZID:America/New_York
X-LIC-LOCATION:America/New_York
BEGIN:DAYLIGHT
DTSTART:20260308T030000
TZOFFSETFROM:-0500
TZOFFSETTO:-0400
TZNAME:EDT
END:DAYLIGHT
END:VTIMEZONE
END:VCALENDAR