BEGIN:VCALENDAR
VERSION:2.0
PRODID:-//wp-events-plugin.com//7.2.3.1//EN
TZID:America/New_York
X-WR-TIMEZONE:America/New_York
BEGIN:VEVENT
UID:325@breadforthecity.org
DTSTART;TZID=America/New_York:20210508T190000
DTEND;TZID=America/New_York:20210508T200000
DTSTAMP:20240819T201948Z
URL:https://breadforthecity.org/events/virtual-good-hope-gala/
SUMMARY:Virtual Good Hope Gala
DESCRIPTION:Join Bread for the City's Call to Action! Saturday May 8th we'l
 l be hosting our Vitural Good Hope Gala! Anyone can watch live via YouTube
 . Good Hope Gala Donors will get a special dinner delivered straight to th
 eir door!
ATTACH;FMTTYPE=image/jpeg:https://breadforthecity.org/wp-content/uploads/2
 024/08/Virtual-GHG-SavetheDate-2021-332x465-1.jpg
CATEGORIES:Fundraisers
END:VEVENT
BEGIN:VTIMEZONE
TZID:America/New_York
X-LIC-LOCATION:America/New_York
BEGIN:DAYLIGHT
DTSTART:20210314T030000
TZOFFSETFROM:-0500
TZOFFSETTO:-0400
TZNAME:EDT
END:DAYLIGHT
END:VTIMEZONE
END:VCALENDAR